BEGIN:VCALENDAR
VERSION:2.0
PRODID:SchoolNow
CALSCALE:GREGORIAN
BEGIN:VEVENT
UID:bb717f4e-bcb5-11f0-b1f0-0a58a9feac02
DTSTAMP:20251216T154518Z
SUMMARY:Jazz Band Rehearsal
LOCATION:Band Room
URL;VALUE=URI:https://www.dg58.org/on/calendar/8784921/jazz-band-rehearsal
DTSTART:20270708T120000Z
DTEND:20270708T124500Z
END:VEVENT
END:VCALENDAR
