BEGIN:VCALENDAR
VERSION:2.0
PRODID:SchoolNow
CALSCALE:GREGORIAN
BEGIN:VEVENT
UID:eea3868c-b8b9-11f0-b041-0eccf28f5c33
DTSTAMP:20251216T154518Z
SUMMARY:Jazz Band Rehearsal
LOCATION:Band Room
URL;VALUE=URI:https://www.dg58.org/on/calendar/8770551/jazz-band-rehearsal
DTSTART:20270701T120000Z
DTEND:20270701T124500Z
END:VEVENT
END:VCALENDAR
