BEGIN:VCALENDAR
VERSION:2.0
PRODID:SchoolNow
CALSCALE:GREGORIAN
BEGIN:VEVENT
UID:684fe19e-af5d-11f0-9239-0ed84f4957a3
DTSTAMP:20251216T154518Z
SUMMARY:Jazz Band Rehearsal
LOCATION:Band Room
URL;VALUE=URI:https://www.dg58.org/on/calendar/8742555/jazz-band-rehearsal
DTSTART:20270622T120000Z
DTEND:20270622T124500Z
END:VEVENT
END:VCALENDAR
