BEGIN:VCALENDAR
VERSION:2.0
PRODID:SchoolNow
CALSCALE:GREGORIAN
BEGIN:VEVENT
UID:6d36b8ba-aef7-11f0-a0f3-0a58a9feac02
DTSTAMP:20251216T154517Z
SUMMARY:Fall Dance & Open Gym
URL;VALUE=URI:https://www.dg58.org/on/calendar/8741060/fall-dance-open-gym
DTSTART:20251029T203000Z
DTEND:20251029T214500Z
END:VEVENT
END:VCALENDAR
