BEGIN:VCALENDAR
VERSION:2.0
PRODID:SchoolNow
CALSCALE:GREGORIAN
BEGIN:VEVENT
UID:7dc10124-ab7b-11f0-bcb4-0e15a274cea1
DTSTAMP:20251216T154518Z
SUMMARY:Jazz Band Rehearsal
LOCATION:Band Room
URL;VALUE=URI:https://www.dg58.org/on/calendar/8729635/jazz-band-rehearsal
DTSTART:20270617T120000Z
DTEND:20270617T124500Z
END:VEVENT
END:VCALENDAR
