BEGIN:VCALENDAR
VERSION:2.0
PRODID:SchoolNow
CALSCALE:GREGORIAN
BEGIN:VEVENT
UID:7dc0fcba-ab7b-11f0-9ec0-0e15a274cea1
DTSTAMP:20251216T154518Z
SUMMARY:Jazz Band Rehearsal
LOCATION:Band Room
URL;VALUE=URI:https://www.dg58.org/on/calendar/8729634/jazz-band-rehearsal
DTSTART:20270610T120000Z
DTEND:20270610T124500Z
END:VEVENT
END:VCALENDAR
