BEGIN:VCALENDAR
VERSION:2.0
PRODID:SchoolNow
CALSCALE:GREGORIAN
BEGIN:VEVENT
UID:7da69c94-ab7b-11f0-8887-0e15a274cea1
DTSTAMP:20251216T154517Z
SUMMARY:Girls Basketball Game
LOCATION:Lisle
URL;VALUE=URI:https://www.dg58.org/on/calendar/8729632/girls-basketball-gam
 e
DTSTART:20251106T221500Z
DTEND:20251107T001500Z
END:VEVENT
END:VCALENDAR
