BEGIN:VCALENDAR
VERSION:2.0
PRODID:SchoolNow
CALSCALE:GREGORIAN
BEGIN:VEVENT
UID:e1789e1a-a3b6-11f0-8d43-0a58a9feac02
DTSTAMP:20251216T154518Z
SUMMARY:Jazz Band Rehearsal
LOCATION:Band Room
URL;VALUE=URI:https://www.dg58.org/on/calendar/8703167/jazz-band-rehearsal
DTSTART:20270603T120000Z
DTEND:20270603T124500Z
END:VEVENT
END:VCALENDAR
