BEGIN:VCALENDAR
VERSION:2.0
PRODID:SchoolNow
CALSCALE:GREGORIAN
BEGIN:VEVENT
UID:10d41d8c-9fee-11f0-a960-0eb69751a735
DTSTAMP:20251216T154518Z
SUMMARY:Jazz Band Rehearsal
LOCATION:Band Room
URL;VALUE=URI:https://www.dg58.org/on/calendar/8689167/jazz-band-rehearsal
DTSTART:20270601T120000Z
DTEND:20270601T124500Z
END:VEVENT
END:VCALENDAR
