BEGIN:VCALENDAR
VERSION:2.0
PRODID:SchoolNow
CALSCALE:GREGORIAN
BEGIN:VEVENT
UID:10d41972-9fee-11f0-887b-0eb69751a735
DTSTAMP:20251216T154518Z
SUMMARY:Jazz Band Rehearsal
LOCATION:Band Room
URL;VALUE=URI:https://www.dg58.org/on/calendar/8689166/jazz-band-rehearsal
DTSTART:20270525T120000Z
DTEND:20270525T124500Z
END:VEVENT
END:VCALENDAR
