BEGIN:VCALENDAR
VERSION:2.0
PRODID:SchoolNow
CALSCALE:GREGORIAN
BEGIN:VEVENT
UID:ae9b9afe-93fa-11f0-9211-0afff6e1f0ed
DTSTAMP:20251216T154518Z
SUMMARY:Jazz Band Rehearsal
LOCATION:Band Room
URL;VALUE=URI:https://www.dg58.org/on/calendar/8633434/jazz-band-rehearsal
DTSTART:20270511T120000Z
DTEND:20270511T124500Z
END:VEVENT
END:VCALENDAR
