BEGIN:VCALENDAR
VERSION:2.0
PRODID:SchoolNow
CALSCALE:GREGORIAN
BEGIN:VEVENT
UID:ae89a970-93fa-11f0-a8fa-0afff6e1f0ed
DTSTAMP:20251216T154518Z
SUMMARY:Jazz Band Rehearsal
LOCATION:Band Room
URL;VALUE=URI:https://www.dg58.org/on/calendar/8633429/jazz-band-rehearsal
DTSTART:20270513T120000Z
DTEND:20270513T124500Z
END:VEVENT
END:VCALENDAR
