BEGIN:VCALENDAR
VERSION:2.0
PRODID:SchoolNow
CALSCALE:GREGORIAN
BEGIN:VEVENT
UID:fa70bce0-8e99-11f0-be44-0affcfc7b053
DTSTAMP:20251216T154517Z
SUMMARY:Reflections Ceremony
LOCATION:ON main gym
URL;VALUE=URI:https://www.dg58.org/on/calendar/8606577/reflections-ceremony
DTSTART:20251202T230000Z
DTEND:20251203T030000Z
END:VEVENT
END:VCALENDAR
