BEGIN:VCALENDAR
VERSION:2.0
PRODID:SchoolNow
CALSCALE:GREGORIAN
BEGIN:VEVENT
UID:2670b62e-8a9e-11f0-8dc2-0a58a9feac02
DTSTAMP:20251216T154518Z
SUMMARY:Jazz Band Rehearsal
LOCATION:Band Room
URL;VALUE=URI:https://www.dg58.org/on/calendar/8585381/jazz-band-rehearsal
DTSTART:20270429T120000Z
DTEND:20270429T124500Z
END:VEVENT
END:VCALENDAR
