BEGIN:VCALENDAR
VERSION:2.0
PRODID:SchoolNow
CALSCALE:GREGORIAN
BEGIN:VEVENT
UID:266a31d2-8a9e-11f0-a9e9-0a58a9feac02
DTSTAMP:20251216T154518Z
SUMMARY:Jazz Band Rehearsal
LOCATION:Band Room
URL;VALUE=URI:https://www.dg58.org/on/calendar/8585379/jazz-band-rehearsal
DTSTART:20270427T120000Z
DTEND:20270427T124500Z
END:VEVENT
END:VCALENDAR
