BEGIN:VCALENDAR
VERSION:2.0
PRODID:SchoolNow
CALSCALE:GREGORIAN
BEGIN:VEVENT
UID:b17ca338-8141-11f0-83d6-0a58a9feac02
DTSTAMP:20251216T154518Z
SUMMARY:Jazz Band Rehearsal
LOCATION:Band Room
URL;VALUE=URI:https://www.dg58.org/on/calendar/8538750/jazz-band-rehearsal
DTSTART:20270422T120000Z
DTEND:20270422T124500Z
END:VEVENT
END:VCALENDAR
