BEGIN:VCALENDAR
VERSION:2.0
PRODID:SchoolNow
CALSCALE:GREGORIAN
BEGIN:VEVENT
UID:b16f53e0-8141-11f0-88a2-0a58a9feac02
DTSTAMP:20251216T154518Z
SUMMARY:Jazz Band Rehearsal
LOCATION:Band Room
URL;VALUE=URI:https://www.dg58.org/on/calendar/8538749/jazz-band-rehearsal
DTSTART:20270420T120000Z
DTEND:20270420T124500Z
END:VEVENT
END:VCALENDAR
