BEGIN:VCALENDAR
VERSION:2.0
PRODID:SchoolNow
CALSCALE:GREGORIAN
BEGIN:VEVENT
UID:ffc790ca-7c46-11f0-9ffe-0a58a9feac02
DTSTAMP:20251216T154518Z
SUMMARY:XC practice
LOCATION:YMCA pavillion
URL;VALUE=URI:https://www.dg58.org/on/calendar/8518082/xc-practice
DTSTART:20250820T130000Z
DTEND:20250820T140000Z
END:VEVENT
END:VCALENDAR
