BEGIN:VCALENDAR
VERSION:2.0
PRODID:SchoolNow
CALSCALE:GREGORIAN
BEGIN:VEVENT
UID:ffc78fda-7c46-11f0-aefe-0a58a9feac02
DTSTAMP:20251216T154518Z
SUMMARY:XC practice/state qualifiers only
URL;VALUE=URI:https://www.dg58.org/on/calendar/8518081/xc-practice-state-qu
 alifiers-only
DTSTART:20251016T202000Z
DTEND:20251016T211500Z
END:VEVENT
END:VCALENDAR
