BEGIN:VCALENDAR
VERSION:2.0
PRODID:SchoolNow
CALSCALE:GREGORIAN
BEGIN:VEVENT
UID:ffc78f08-7c46-11f0-b8c1-0a58a9feac02
DTSTAMP:20251216T154518Z
SUMMARY:XC practice/state qualifiers only
URL;VALUE=URI:https://www.dg58.org/on/calendar/8518080/xc-practice-state-qu
 alifiers-only
DTSTART:20251015T202000Z
DTEND:20251015T211500Z
END:VEVENT
END:VCALENDAR
