BEGIN:VCALENDAR
VERSION:2.0
PRODID:SchoolNow
CALSCALE:GREGORIAN
BEGIN:VEVENT
UID:ffc78e2c-7c46-11f0-a42e-0a58a9feac02
DTSTAMP:20251216T154518Z
SUMMARY:XC practice/state qualifiers only
URL;VALUE=URI:https://www.dg58.org/on/calendar/8518079/xc-practice-state-qu
 alifiers-only
DTSTART:20251014T202000Z
DTEND:20251014T211500Z
END:VEVENT
END:VCALENDAR
