BEGIN:VCALENDAR
VERSION:2.0
PRODID:SchoolNow
CALSCALE:GREGORIAN
BEGIN:VEVENT
UID:ffc78d46-7c46-11f0-89e5-0a58a9feac02
DTSTAMP:20251216T154518Z
SUMMARY:XC practice/sectional athletes only
URL;VALUE=URI:https://www.dg58.org/on/calendar/8518078/xc-practice-sectiona
 l-athletes-only
DTSTART:20251009T202000Z
DTEND:20251009T213000Z
END:VEVENT
END:VCALENDAR
