BEGIN:VCALENDAR
VERSION:2.0
PRODID:SchoolNow
CALSCALE:GREGORIAN
BEGIN:VEVENT
UID:ffc78c1a-7c46-11f0-bed2-0a58a9feac02
DTSTAMP:20251216T154518Z
SUMMARY:XC practice/sectional athletes only
URL;VALUE=URI:https://www.dg58.org/on/calendar/8518077/xc-practice-sectiona
 l-athletes-only
DTSTART:20251008T202000Z
DTEND:20251008T213000Z
END:VEVENT
END:VCALENDAR
