BEGIN:VCALENDAR
VERSION:2.0
PRODID:SchoolNow
CALSCALE:GREGORIAN
BEGIN:VEVENT
UID:ffc78a08-7c46-11f0-9300-0a58a9feac02
DTSTAMP:20251216T154518Z
SUMMARY:Cross Country Practice
LOCATION:field behind the YMCA
URL;VALUE=URI:https://www.dg58.org/on/calendar/8518075/cross-country-practi
 ce
DTSTART:20251001T202000Z
DTEND:20251001T211500Z
END:VEVENT
END:VCALENDAR
