BEGIN:VCALENDAR
VERSION:2.0
PRODID:SchoolNow
CALSCALE:GREGORIAN
BEGIN:VEVENT
UID:ffc7877e-7c46-11f0-a9b9-0a58a9feac02
DTSTAMP:20251216T154518Z
SUMMARY:Cross Country Practice
LOCATION:field behind the YMCA
URL;VALUE=URI:https://www.dg58.org/on/calendar/8518072/cross-country-practi
 ce
DTSTART:20250917T202000Z
DTEND:20250917T211500Z
END:VEVENT
END:VCALENDAR
