BEGIN:VCALENDAR
VERSION:2.0
PRODID:SchoolNow
CALSCALE:GREGORIAN
BEGIN:VEVENT
UID:ffc7815c-7c46-11f0-add0-0a58a9feac02
DTSTAMP:20251216T154518Z
SUMMARY:Cross Country Practice
LOCATION:O'Neill Middle School\, 635 59th St\, Downers Grove\, IL 60516\, U
 SA
URL;VALUE=URI:https://www.dg58.org/on/calendar/8518065/cross-country-practi
 ce
DTSTART:20250929T121500Z
DTEND:20250929T130000Z
END:VEVENT
END:VCALENDAR
