BEGIN:VCALENDAR
VERSION:2.0
PRODID:SchoolNow
CALSCALE:GREGORIAN
BEGIN:VEVENT
UID:ffc75a42-7c46-11f0-87e9-0a58a9feac02
DTSTAMP:20251216T154518Z
SUMMARY:Cross Country Practice
URL;VALUE=URI:https://www.dg58.org/on/calendar/8518059/cross-country-practi
 ce
DTSTART:20250905T121500Z
DTEND:20250905T130000Z
END:VEVENT
END:VCALENDAR
