BEGIN:VCALENDAR
VERSION:2.0
PRODID:SchoolNow
CALSCALE:GREGORIAN
BEGIN:VEVENT
UID:f7b0a3ce-7be0-11f0-998c-027b1e7520f9
DTSTAMP:20251216T154517Z
SUMMARY:End of Quarter 1
URL;VALUE=URI:https://www.dg58.org/on/calendar/8516798/end-of-quarter-1
DTSTART;VALUE=DATE:20251031
DTEND;VALUE=DATE:20251101
END:VEVENT
END:VCALENDAR
