BEGIN:VCALENDAR
VERSION:2.0
PRODID:SchoolNow
CALSCALE:GREGORIAN
BEGIN:VEVENT
UID:f7b0a2d4-7be0-11f0-b5a9-027b1e7520f9
DTSTAMP:20251216T154517Z
SUMMARY:End of Trimester 1
URL;VALUE=URI:https://www.dg58.org/on/calendar/8516797/end-of-trimester-1
DTSTART;VALUE=DATE:20251125
DTEND;VALUE=DATE:20251126
END:VEVENT
END:VCALENDAR
