BEGIN:VCALENDAR
VERSION:2.0
PRODID:SchoolNow
CALSCALE:GREGORIAN
BEGIN:VEVENT
UID:f7b0a09a-7be0-11f0-80b1-027b1e7520f9
DTSTAMP:20251216T154517Z
SUMMARY:End of Quarter 2
URL;VALUE=URI:https://www.dg58.org/on/calendar/8516795/end-of-quarter-2
DTSTART;VALUE=DATE:20260123
DTEND;VALUE=DATE:20260124
END:VEVENT
END:VCALENDAR
