BEGIN:VCALENDAR
VERSION:2.0
PRODID:SchoolNow
CALSCALE:GREGORIAN
BEGIN:VEVENT
UID:f7b09f1e-7be0-11f0-a7e6-027b1e7520f9
DTSTAMP:20251216T154517Z
SUMMARY:End of Trimester 2
URL;VALUE=URI:https://www.dg58.org/on/calendar/8516794/end-of-trimester-2
DTSTART;VALUE=DATE:20260306
DTEND;VALUE=DATE:20260307
END:VEVENT
END:VCALENDAR
