BEGIN:VCALENDAR
VERSION:2.0
PRODID:SchoolNow
CALSCALE:GREGORIAN
BEGIN:VEVENT
UID:f7b08042-7be0-11f0-894a-027b1e7520f9
DTSTAMP:20251216T154517Z
SUMMARY:End of Quarter 3
URL;VALUE=URI:https://www.dg58.org/on/calendar/8516793/end-of-quarter-3
DTSTART;VALUE=DATE:20260327
DTEND;VALUE=DATE:20260328
END:VEVENT
END:VCALENDAR
