BEGIN:VCALENDAR
VERSION:2.0
PRODID:SchoolNow
CALSCALE:GREGORIAN
BEGIN:VEVENT
UID:fe26538a-7bad-11f0-b327-0a58a9feac02
DTSTAMP:20251216T154518Z
SUMMARY:Jazz Band Rehearsal
LOCATION:Band Room
URL;VALUE=URI:https://www.dg58.org/on/calendar/8516197/jazz-band-rehearsal
DTSTART:20270413T120000Z
DTEND:20270413T124500Z
END:VEVENT
END:VCALENDAR
