BEGIN:VCALENDAR
VERSION:2.0
PRODID:SchoolNow
CALSCALE:GREGORIAN
BEGIN:VEVENT
UID:fe1ffa4e-7bad-11f0-9cf7-0a58a9feac02
DTSTAMP:20251216T154518Z
SUMMARY:Jazz Band Rehearsal
LOCATION:Band Room
URL;VALUE=URI:https://www.dg58.org/on/calendar/8516196/jazz-band-rehearsal
DTSTART:20270415T120000Z
DTEND:20270415T124500Z
END:VEVENT
END:VCALENDAR
