BEGIN:VCALENDAR
VERSION:2.0
PRODID:SchoolNow
CALSCALE:GREGORIAN
BEGIN:VEVENT
UID:fe0af7e8-7bad-11f0-b8ec-0a58a9feac02
DTSTAMP:20251216T154517Z
SUMMARY:CC Parent Meeting https://meet.google.com/bsp-quwv-qzw
URL;VALUE=URI:https://www.dg58.org/on/calendar/8516195/cc-parent-meeting-ht
 tps-meet-google-com-bsp-quwv-qzw
DTSTART:20250818T230000Z
DTEND:20250819T000000Z
END:VEVENT
END:VCALENDAR
