BEGIN:VCALENDAR
VERSION:2.0
PRODID:SchoolNow
CALSCALE:GREGORIAN
BEGIN:VEVENT
UID:fe0af702-7bad-11f0-8b1f-0a58a9feac02
DTSTAMP:20251216T154517Z
SUMMARY:CC practice (meet @ YMCA Pavilion)
URL;VALUE=URI:https://www.dg58.org/on/calendar/8516194/cc-practice-meet-ymc
 a-pavilion
DTSTART:20250828T120000Z
DTEND:20250828T124500Z
END:VEVENT
END:VCALENDAR
