BEGIN:VCALENDAR
VERSION:2.0
PRODID:SchoolNow
CALSCALE:GREGORIAN
BEGIN:VEVENT
UID:fe0af61c-7bad-11f0-9f1f-0a58a9feac02
DTSTAMP:20251216T154517Z
SUMMARY:CC practice (meet @ YMCA Pavilion)
URL;VALUE=URI:https://www.dg58.org/on/calendar/8516193/cc-practice-meet-ymc
 a-pavilion
DTSTART:20250827T120000Z
DTEND:20250827T124500Z
END:VEVENT
END:VCALENDAR
