BEGIN:VCALENDAR
VERSION:2.0
PRODID:SchoolNow
CALSCALE:GREGORIAN
BEGIN:VEVENT
UID:fe0af0a4-7bad-11f0-b409-0a58a9feac02
DTSTAMP:20251216T154517Z
SUMMARY:Harlem Wizards
URL;VALUE=URI:https://www.dg58.org/on/calendar/8516187/harlem-wizards
DTSTART;VALUE=DATE:20260118
DTEND;VALUE=DATE:20260119
END:VEVENT
END:VCALENDAR
