BEGIN:VCALENDAR
VERSION:2.0
PRODID:SchoolNow
CALSCALE:GREGORIAN
BEGIN:VEVENT
UID:fe0aefbe-7bad-11f0-bbed-0a58a9feac02
DTSTAMP:20251216T154517Z
SUMMARY:Beginning Band fittings and Sign Up at ON
LOCATION:O'Neill Middle School\, 635 59th St\, Downers Grove\, IL 60516\, U
 SA
URL;VALUE=URI:https://www.dg58.org/on/calendar/8516186/beginning-band-fitti
 ngs-and-sign-up-at-on
DTSTART:20260502T133000Z
DTEND:20260502T183000Z
END:VEVENT
END:VCALENDAR
