BEGIN:VCALENDAR
VERSION:2.0
PRODID:SchoolNow
CALSCALE:GREGORIAN
BEGIN:VEVENT
UID:fe0aeece-7bad-11f0-9066-0a58a9feac02
DTSTAMP:20251216T154517Z
SUMMARY:Author Visit Wendelin Van Draanen
URL;VALUE=URI:https://www.dg58.org/on/calendar/8516185/author-visit-wendeli
 n-van-draanen
DTSTART;VALUE=DATE:20260325
DTEND;VALUE=DATE:20260326
END:VEVENT
END:VCALENDAR
