BEGIN:VCALENDAR
VERSION:2.0
PRODID:SchoolNow
CALSCALE:GREGORIAN
BEGIN:VEVENT
UID:fe0aecf8-7bad-11f0-9e4b-0a58a9feac02
DTSTAMP:20251216T154517Z
SUMMARY:DGS Jazz Cafe
LOCATION:Downers Grove South High School\, 1436 Norfolk St\, Downers Grove\
 , IL 60516\, USA
URL;VALUE=URI:https://www.dg58.org/on/calendar/8516183/dgs-jazz-cafe
DTSTART:20260310T230000Z
DTEND:20260311T020000Z
END:VEVENT
END:VCALENDAR
