BEGIN:VCALENDAR
VERSION:2.0
PRODID:SchoolNow
CALSCALE:GREGORIAN
BEGIN:VEVENT
UID:fe0aeb22-7bad-11f0-b5a5-0a58a9feac02
DTSTAMP:20251216T154517Z
SUMMARY:Musical
URL;VALUE=URI:https://www.dg58.org/on/calendar/8516181/musical
DTSTART:20260313T000000Z
DTEND:20260313T020000Z
END:VEVENT
END:VCALENDAR
