BEGIN:VCALENDAR
VERSION:2.0
PRODID:SchoolNow
CALSCALE:GREGORIAN
BEGIN:VEVENT
UID:fe0ae88e-7bad-11f0-9e41-0a58a9feac02
DTSTAMP:20251216T154517Z
SUMMARY:Multicultural Night
URL;VALUE=URI:https://www.dg58.org/on/calendar/8516179/multicultural-night
DTSTART:20260227T000000Z
DTEND:20260227T014500Z
END:VEVENT
END:VCALENDAR
