BEGIN:VCALENDAR
VERSION:2.0
PRODID:SchoolNow
CALSCALE:GREGORIAN
BEGIN:VEVENT
UID:fe0ae604-7bad-11f0-b108-0a58a9feac02
DTSTAMP:20251216T154517Z
SUMMARY:Parent-Teacher Conferences
URL;VALUE=URI:https://www.dg58.org/on/calendar/8516177/parent-teacher-confe
 rences
DTSTART:20260210T230000Z
DTEND:20260211T020000Z
END:VEVENT
END:VCALENDAR
