BEGIN:VCALENDAR
VERSION:2.0
PRODID:SchoolNow
CALSCALE:GREGORIAN
BEGIN:VEVENT
UID:fe0ae41a-7bad-11f0-b7bb-0a58a9feac02
DTSTAMP:20251216T154517Z
SUMMARY:DGS Jr. High Choir Festival
LOCATION:Downers Grove South High School\, 1436 Norfolk St\, Downers Grove\
 , IL 60516\, USA
URL;VALUE=URI:https://www.dg58.org/on/calendar/8516175/dgs-jr-high-choir-fe
 stival
DTSTART:20260115T212000Z
DTEND:20260116T000000Z
END:VEVENT
END:VCALENDAR
