BEGIN:VCALENDAR
VERSION:2.0
PRODID:SchoolNow
CALSCALE:GREGORIAN
BEGIN:VEVENT
UID:fe0ae30c-7bad-11f0-9b59-0a58a9feac02
DTSTAMP:20251216T154517Z
SUMMARY:O'Neill Band and Choir Concert
LOCATION:O'Neill Middle School\, 635 59th St\, Downers Grove\, IL 60516\, U
 SA
URL;VALUE=URI:https://www.dg58.org/on/calendar/8516174/oneill-band-and-choi
 r-concert
DTSTART:20251029T000000Z
DTEND:20251029T010000Z
END:VEVENT
END:VCALENDAR
