BEGIN:VCALENDAR
VERSION:2.0
PRODID:SchoolNow
CALSCALE:GREGORIAN
BEGIN:VEVENT
UID:fe0ae208-7bad-11f0-b98c-0a58a9feac02
DTSTAMP:20251216T154517Z
SUMMARY:DGS Wind Ensemble Invitational (ON band performs)
LOCATION:Downers Grove South High School\, 1436 Norfolk St\, Downers Grove\
 , IL 60516\, USA
URL;VALUE=URI:https://www.dg58.org/on/calendar/8516173/dgs-wind-ensemble-in
 vitational-on-band-performs
DTSTART:20251022T000000Z
DTEND:20251022T020000Z
END:VEVENT
END:VCALENDAR
