BEGIN:VCALENDAR
VERSION:2.0
PRODID:SchoolNow
CALSCALE:GREGORIAN
BEGIN:VEVENT
UID:fe0ae0c8-7bad-11f0-9afa-0a58a9feac02
DTSTAMP:20251216T154517Z
SUMMARY:Parent-Teacher Conferences
URL;VALUE=URI:https://www.dg58.org/on/calendar/8516172/parent-teacher-confe
 rences
DTSTART:20251023T220000Z
DTEND:20251024T010000Z
END:VEVENT
END:VCALENDAR
