BEGIN:VCALENDAR
VERSION:2.0
PRODID:SchoolNow
CALSCALE:GREGORIAN
BEGIN:VEVENT
UID:fe0add6c-7bad-11f0-972b-0a58a9feac02
DTSTAMP:20251216T154517Z
SUMMARY:Parent-Teacher Conferences
URL;VALUE=URI:https://www.dg58.org/on/calendar/8516171/parent-teacher-confe
 rences
DTSTART:20251021T220000Z
DTEND:20251022T010000Z
END:VEVENT
END:VCALENDAR
