BEGIN:VCALENDAR
VERSION:2.0
PRODID:SchoolNow
CALSCALE:GREGORIAN
BEGIN:VEVENT
UID:5d0c265a-7482-11f0-9dde-0a58a9feac02
DTSTAMP:20251216T154518Z
SUMMARY:Jazz Band Rehearsal
LOCATION:Band Room
URL;VALUE=URI:https://www.dg58.org/on/calendar/8483425/jazz-band-rehearsal
DTSTART:20270408T120000Z
DTEND:20270408T124500Z
END:VEVENT
END:VCALENDAR
